BEGIN:VCALENDAR
VERSION:2.0
PRODID:-//Ryan Ingebritsen - ECPv4.6.16//NONSGML v1.0//EN
CALSCALE:GREGORIAN
METHOD:PUBLISH
X-WR-CALNAME:Ryan Ingebritsen
X-ORIGINAL-URL:http://wcawm.com/site
X-WR-CALDESC:Events for Ryan Ingebritsen
BEGIN:VEVENT
DTSTART;TZID=UTC+0:20120722T190000
DTEND;TZID=UTC+0:20120722T210059
DTSTAMP:20260420T104619
CREATED:20120707T215818Z
LAST-MODIFIED:20120707T215818Z
UID:271-1342983600-1342990859@wcawm.com
SUMMARY:Assemblage Climbs the Walls July 22nd at Spetrum
DESCRIPTION:Members of the Assemblage Ensemble Charles Waters\, Ryan Ingebritsen and Andrew Barker appear at Spectrum as a part of NATEC (National Association of Theater Engineers Conference).  The evening will be a series of improvisations that interact with the architecture of Specturm itself via a multi-channel speaker system that will carry the sound of the performers in both time and space.  There will be a chance to talk to the ensemble and give feedback between each set so it will truly be an evening of interaction.\n			\n				\n			\n			\n				\n			\n		\n \n  \n
URL:http://wcawm.com/site/event/assemblage-climbs-the-walls-july-22nd-at-spetrum/
LOCATION:121 Ludlow\, New York\, United States
END:VEVENT
END:VCALENDAR