BEGIN:VCALENDAR
VERSION:2.0
PRODID:-//Ryan Ingebritsen - ECPv4.6.16//NONSGML v1.0//EN
CALSCALE:GREGORIAN
METHOD:PUBLISH
X-WR-CALNAME:Ryan Ingebritsen
X-ORIGINAL-URL:http://wcawm.com/site
X-WR-CALDESC:Events for Ryan Ingebritsen
BEGIN:VEVENT
DTSTART;TZID=UTC+0:20120826T173000
DTEND;TZID=UTC+0:20120826T190059
DTSTAMP:20260420T091509
CREATED:20120823T021127Z
LAST-MODIFIED:20120823T021548Z
UID:288-1346002200-1346007659@wcawm.com
SUMMARY:Iniksuit at Millennium Park
DESCRIPTION:  \n\n\n\nJohn Luther Adams’ large-scale percussion work will feature 100 musicians from New Music Chicago and beyond in the first musical event to utilize the entire space of Millennium Park. This hour long immersive performance is designed to heighten awareness of the sights and sounds that surround us every day\, energizing the experience of our own environment. Presented by eighth blackbird and directed by Doug Perkins.Written for an incredible array of instruments—conch shells\, airhorns\, sirens\, gongs\, maracas\, drums\, cymbals\, and glockenspiels—the piece was premiered in the forests of Banff\, Canada and has been performed several times in the United States. \nMillennium Park’s newest music series\, Loops and Variations\, mixes new music and electronica.\n\n\n\n\n\n\n\n\n\n\n\n\n\n\n\n\n\nDates:\nAug 26\, 2012\n\n\n\nAdd to Calendar\n\n\n\n\n\n\n\n\n\n\n\n\nHours:\nSunday\, 5:30 pm\n\n\n\n\n\n\n\n\n\n\n\nLocation:\nMillennium Park\nN. Michigan Ave. & E. Randolph St.\nChicago\, IL 60602\n\n\n\n\n\n\n\n\n\n\n\nAdmission:\nFREE\n\n\n\nhttp://www.explorechicago.org/city/en/things_see_do/event_landing/events/dca_tourism/LAV_092612.html \n
URL:http://wcawm.com/site/event/iniksuit-at-millennium-park/
LOCATION:1 N Michigan Ave\, Chicago\, IL\, United States
END:VEVENT
END:VCALENDAR